BEGIN:VCALENDAR
VERSION:2.0
PRODID:-//ChamberMaster//Event Calendar 2.0//EN
METHOD:PUBLISH
X-PUBLISHED-TTL:P3D
REFRESH-INTERVAL:P3D
CALSCALE:GREGORIAN
BEGIN:VEVENT
DTSTART;VALUE=DATE:20190908
DTEND;VALUE=DATE:20190915
TRANSP:TRANSPARENT
X-MICROSOFT-CDO-ALLDAYEVENT:TRUE
SUMMARY:Halifax County Restaurant Week
DESCRIPTION:Halifax County Restaurant Week featuring these restaurants:\n\n	Badeaux's\n	Bistro 1888\n	The Busy Bean\n	Darby's Tavern\n	Molasses Grill\n	The Packhouse Cafe\n	Sissy's Country Kitchen\n	Southern Plenty\n	Spainhour Diner\n\nBreakfast Options for $10 (includes beverage) - Lunch Options for $10 - Dinner Options for $25 (Beverages\, tax and gratuity are not included)\n\nReservations are encouraged.
X-ALT-DESC;FMTTYPE=text/html:Halifax County Restaurant Week featuring these restaurants:\n<ul>\n	<li>Badeaux&#39\;s</li>\n	<li>Bistro 1888</li>\n	<li>The Busy Bean</li>\n	<li>Darby&#39\;s Tavern</li>\n	<li>Molasses Grill</li>\n	<li>The Packhouse Cafe</li>\n	<li>Sissy&#39\;s Country Kitchen</li>\n	<li>Southern Plenty</li>\n	<li>Spainhour Diner</li>\n</ul>\nBreakfast Options for $10 (includes beverage) - Lunch Options for $10 - Dinner Options for $25 (Beverages\, tax and gratuity are not included)<br />\nReservations are encouraged.
LOCATION:
UID:e.845.13285
SEQUENCE:3
DTSTAMP:20260420T233648Z
URL:https://business.halifaxchamber.net/events/details/halifax-county-restaurant-week-13285
END:VEVENT

END:VCALENDAR
