BEGIN:VCALENDAR
VERSION:2.0
PRODID:-//ChamberMaster//Event Calendar 2.0//EN
METHOD:PUBLISH
X-PUBLISHED-TTL:P3D
REFRESH-INTERVAL:P3D
CALSCALE:GREGORIAN
BEGIN:VEVENT
DTSTART;VALUE=DATE:20170910
DTEND;VALUE=DATE:20170917
TRANSP:TRANSPARENT
X-MICROSOFT-CDO-ALLDAYEVENT:TRUE
SUMMARY:Halifax County Restaurant Week
DESCRIPTION:Halifax County Restaurant Week is a delicious opportunity to experience the area's best restaurants at a great price. It is a celebration that showcases the diverse culinary experiences in Halifax County\, the Town of Halifax\, and the Town of South Boston.\n\n\n\nParticipating restaurants will offer a special prix-fixe menu for breakfast\, lunch or dinner. Breakfast and lunch options will be $10 and $20 or $20 for dinner. \n\n\n\nParticipating Restaurants:\n\nBistro 1888\n\nJB's Burgers\, Apps and Taps\n\nJoe and a Bow\n\nMain Street Cafe\n\nMolasses Grill\n\nOak Tree Tavern\n\nPackhouse\n\nRoma \n\nSissy's Country Kitchen\n\nSouthern Plenty\n\nDarby's Tavern\n\n\n\nThe Monday Night dinner series "Corn and Carnivores" hosted at Springfield Distillery on Monday\, September 11th is also part of Restaurant week.  You must purchase tickets in advance. \n\n\n\nVisit www.halifaxcountyrestaurantweek.com for more information.
X-ALT-DESC;FMTTYPE=text/html:Halifax County Restaurant Week is a delicious opportunity to experience the area&#39\;s best restaurants at a great price. It is a celebration that showcases the diverse culinary experiences in Halifax County\, the Town of Halifax\, and the Town of South Boston.<br />\n<br />\nParticipating restaurants will offer a special prix-fixe menu for breakfast\, lunch or dinner. Breakfast and lunch options will be $10 and $20 or $20 for dinner.&nbsp\;<br />\n<br />\nParticipating Restaurants:<br />\nBistro 1888<br />\nJB&#39\;s Burgers\, Apps and Taps<br />\nJoe and a Bow<br />\nMain Street Cafe<br />\nMolasses Grill<br />\nOak Tree Tavern<br />\nPackhouse<br />\nRoma&nbsp\;<br />\nSissy&#39\;s Country Kitchen<br />\nSouthern Plenty<br />\nDarby&#39\;s Tavern<br />\n<br />\nThe Monday Night dinner series &quot\;Corn and Carnivores&quot\; hosted at Springfield Distillery on Monday\, September 11th is also part of Restaurant week. &nbsp\;You must purchase tickets in advance.&nbsp\;<br />\n<br />\nVisit www.halifaxcountyrestaurantweek.com for more information.&nbsp\;<br />\n<br />\n&nbsp\;
LOCATION:Halifax County\, VA
UID:e.845.7066
SEQUENCE:3
DTSTAMP:20260422T155646Z
URL:https://business.halifaxchamber.net/events/details/halifax-county-restaurant-week-7066
END:VEVENT

END:VCALENDAR
