BEGIN:VCALENDAR
VERSION:2.0
PRODID:-//ChamberMaster//Event Calendar 2.0//EN
METHOD:PUBLISH
X-PUBLISHED-TTL:P3D
REFRESH-INTERVAL:P3D
CALSCALE:GREGORIAN
BEGIN:VEVENT
DTSTART:20180602T160000Z
DTEND:20180603T010000Z
X-MICROSOFT-CDO-ALLDAYEVENT:FALSE
SUMMARY:Halifax County SPCA Scratch N Sniff Fundraiser
DESCRIPTION:Come join us for a fun filled day at Springfield Distillery. We will have food trucks\, Turkey Scratch and definitely cocktail tastings! All donations for the event will benefit Paws and Claws and all proceeds from the featured cocktail will be given to the cause!\n\nPets attending must be on a leash at all times and MUST be spayed or neutered. Water bowls and Poop pickup bags will be provided!\n\nStay tuned for more updates as we get closer to the event! Please share!\n\nTurkey Scratch will perform from 5p-9p.
X-ALT-DESC;FMTTYPE=text/html:<span style="color: rgb(75\, 79\, 86)\; font-family: system-ui\, -apple-system\, system-ui\, &quot\;.SFNSText-Regular&quot\;\, sans-serif\; font-size: 14px\;">Come join us for a fun filled day at Springfield Distillery. We will have food trucks\, Turkey Scratch and definitely cocktail tastings! All donations for the event will benefit Paws and Claws and all proceeds from the featured cocktail will be given to the cause!</span><br style="color: rgb(75\, 79\, 86)\; font-family: system-ui\, -apple-system\, system-ui\, &quot\;.SFNSText-Regular&quot\;\, sans-serif\; font-size: 14px\;" />\n<span style="color: rgb(75\, 79\, 86)\; font-family: system-ui\, -apple-system\, system-ui\, &quot\;.SFNSText-Regular&quot\;\, sans-serif\; font-size: 14px\;">Pets attending must be on a leash at all times and MUST be spayed or neutered. Water bowls and Poop pickup bags will be provided!</span><br style="color: rgb(75\, 79\, 86)\; font-family: system-ui\, -apple-system\, system-ui\, &quot\;.SFNSText-Regular&quot\;\, sans-serif\; font-size: 14px\;" />\n<span style="color: rgb(75\, 79\, 86)\; font-family: system-ui\, -apple-system\, system-ui\, &quot\;.SFNSText-Regular&quot\;\, sans-serif\; font-size: 14px\;">Stay tuned for more updates as we get closer to the event! Please share!<br />\nTurkey Scratch will perform from 5p-9p.</span>
LOCATION:Springfield Distillery 9040 River Road Halifax\, VA 24558
UID:e.845.8435
SEQUENCE:3
DTSTAMP:20260422T012958Z
URL:https://business.halifaxchamber.net/events/details/halifax-county-spca-scratch-n-sniff-fundraiser-8435
END:VEVENT

END:VCALENDAR
