BEGIN:VCALENDAR
VERSION:2.0
PRODID:-//ChamberMaster//Event Calendar 2.0//EN
METHOD:PUBLISH
X-PUBLISHED-TTL:P3D
REFRESH-INTERVAL:P3D
CALSCALE:GREGORIAN
BEGIN:VEVENT
DTSTART:20181214T180000Z
DTEND:20181215T210000Z
X-MICROSOFT-CDO-ALLDAYEVENT:FALSE
SUMMARY:Halifax Dog Squad Yard Sale
DESCRIPTION:Halifax Dog Squad Yard Sale is happening December 14th 1p-7p and 15th 8a-4p at Frutopia next to Italian Delight. Everything must go!
X-ALT-DESC;FMTTYPE=text/html:Halifax Dog Squad Yard Sale is happening December 14th 1p-7p and 15th 8a-4p at Frutopia next to Italian Delight. Everything must go!
LOCATION:Frutopia building next to Italian Delight
UID:e.845.11437
SEQUENCE:3
DTSTAMP:20260421T140249Z
URL:https://business.halifaxchamber.net/events/details/halifax-dog-squad-yard-sale-11437
END:VEVENT

END:VCALENDAR
