BEGIN:VCALENDAR
VERSION:2.0
PRODID:-//ChamberMaster//Event Calendar 2.0//EN
METHOD:PUBLISH
X-PUBLISHED-TTL:P3D
REFRESH-INTERVAL:P3D
CALSCALE:GREGORIAN
BEGIN:VEVENT
DTSTART:20190427T140000Z
DTEND:20190427T180000Z
X-MICROSOFT-CDO-ALLDAYEVENT:FALSE
SUMMARY:Halifax Earth Day Extravaganza
DESCRIPTION:The Town of Halifax presents the 11th Annual Earth Day Extravaganza on Saturday\, April 27\, 2019\, from 10am-2pm at the Halifax Farmers' Market. This is an educational day for the community to learn ways to become more Earth-friendly. Activities and demonstrations for adults and children.\n\nCome join the fun:\n\n	Rain Barrel Demo\n	No Sew T-shirt Tote Bag\n	Essential Oil Workshop\n	Worm Farming\n	Shiitake Mushroom Workshop\n	Electronics Recycling\n	Scavanger Hunt\n	Dirt Babies\n	Rock Painting\n	Recycled Papter Towel Roll Bird Feeders\n	Suncatcher and Magnet Painting
X-ALT-DESC;FMTTYPE=text/html:<span style="font-size:12px\;"><span style="font-family:arial\;"><span style="color: rgb(29\, 33\, 41)\; white-space: pre-wrap\;">The Town of Halifax presents the 11th Annual Earth Day Extravaganza on Saturday\, April 27\, 2019\, from 10am-2pm at the Halifax Farmers&#39\; Market. This is an educational day for the community to learn ways to become more Earth-friendly. Activities and demonstrations for adults and children.<br />\nCome join the fun:</span></span></span>\n<ul>\n	<li><span style="font-size:12px\;"><span style="font-family:arial\;"><span style="color: rgb(29\, 33\, 41)\; white-space: pre-wrap\;">Rain Barrel Demo</span></span></span></li>\n	<li>No Sew T-shirt Tote Bag</li>\n	<li>Essential Oil Workshop</li>\n	<li>Worm Farming</li>\n	<li>Shiitake Mushroom Workshop</li>\n	<li>Electronics Recycling</li>\n	<li>Scavanger Hunt</li>\n	<li>Dirt Babies</li>\n	<li>Rock Painting</li>\n	<li>Recycled Papter Towel Roll Bird Feeders</li>\n	<li>Suncatcher and Magnet Painting</li>\n</ul>\n
LOCATION:Halifax Farmer's Market 209 S Main St Halifax\, Virginia 24558
UID:e.845.12441
SEQUENCE:3
DTSTAMP:20260421T093604Z
URL:https://business.halifaxchamber.net/events/details/halifax-earth-day-extravaganza-12441
END:VEVENT

END:VCALENDAR
