BEGIN:VCALENDAR
VERSION:2.0
PRODID:-//ChamberMaster//Event Calendar 2.0//EN
METHOD:PUBLISH
X-PUBLISHED-TTL:P3D
REFRESH-INTERVAL:P3D
CALSCALE:GREGORIAN
BEGIN:VEVENT
DTSTART;VALUE=DATE:20191018
DTEND;VALUE=DATE:20191020
TRANSP:TRANSPARENT
X-MICROSOFT-CDO-ALLDAYEVENT:TRUE
SUMMARY:Halifax Fall Cleanup
DESCRIPTION:The Town of Halifax solid waste department will conduct its annual free fall clean-up for town residents and businesses by appointment only.\n\nYou must call 434-476-2343 for notification to remove discarded household/business items and yard debris too large for regular pick up prior to noon on Wednesday\, October 16.
X-ALT-DESC;FMTTYPE=text/html:The Town of Halifax solid waste department will conduct its annual free fall clean-up for town residents and businesses by appointment only.<br />\nYou must call 434-476-2343 for notification to remove discarded household/business items and yard debris too large for regular pick up prior to noon on Wednesday\, October 16.
LOCATION:Town of Halifax
UID:e.845.13446
SEQUENCE:3
DTSTAMP:20260420T214631Z
URL:https://business.halifaxchamber.net/events/details/halifax-fall-cleanup-13446
END:VEVENT

END:VCALENDAR
