BEGIN:VCALENDAR
VERSION:2.0
PRODID:-//ChamberMaster//Event Calendar 2.0//EN
METHOD:PUBLISH
X-PUBLISHED-TTL:P3D
REFRESH-INTERVAL:P3D
CALSCALE:GREGORIAN
BEGIN:VEVENT
DTSTART:20191019T120000Z
DTEND:20191019T170000Z
X-MICROSOFT-CDO-ALLDAYEVENT:FALSE
SUMMARY:Halifax Fall Festival
DESCRIPTION:Join the Town of Halifax Farmers Market for this community event including kids activities and crafts\, fall essential oils workshop\, vendors\, shopped\, refreshments\, food by Full Circle Pizza\, and much more!
X-ALT-DESC;FMTTYPE=text/html:Join the Town of Halifax Farmers Market for this community event including kids activities and crafts\, fall essential oils workshop\, vendors\, shopped\, refreshments\, food by Full Circle Pizza\, and much more!
LOCATION:Town of Halifax Farmers Market 209 South Main Street Halifax\, VA 24558
UID:e.845.13305
SEQUENCE:3
DTSTAMP:20260420T233846Z
URL:https://business.halifaxchamber.net/events/details/halifax-fall-festival-13305
END:VEVENT

END:VCALENDAR
