BEGIN:VCALENDAR
VERSION:2.0
PRODID:-//ChamberMaster//Event Calendar 2.0//EN
METHOD:PUBLISH
X-PUBLISHED-TTL:P3D
REFRESH-INTERVAL:P3D
CALSCALE:GREGORIAN
BEGIN:VEVENT
DTSTART:20201003T140000Z
DTEND:20201003T170000Z
X-MICROSOFT-CDO-ALLDAYEVENT:FALSE
SUMMARY:Halifax Farmers Market Barbeque
DESCRIPTION:Halifax Market Place will be hosting a Barbeque Fundraiser for their building renovation. Take Out plate includes BBQ\, baked beans\, slaw & homemade dinner roll.\n\nTo preorder call Denise Barksdale at 434.222.6604 no later than noon on October 2. Preorders not necessary.
X-ALT-DESC;FMTTYPE=text/html:Halifax Market Place will be hosting a Barbeque Fundraiser for their building renovation. Take Out plate includes BBQ\, baked beans\, slaw &amp\; homemade dinner roll.<br />\nTo preorder call Denise Barksdale at 434.222.6604 no later than noon on October 2. Preorders not necessary.
LOCATION:Halifax Market Place 209 South Main St Halifax\, VA 24558
UID:e.845.17768
SEQUENCE:3
DTSTAMP:20260420T013349Z
URL:https://business.halifaxchamber.net/events/details/halifax-farmers-market-barbeque-17768
END:VEVENT

END:VCALENDAR
