BEGIN:VCALENDAR
VERSION:2.0
PRODID:-//ChamberMaster//Event Calendar 2.0//EN
METHOD:PUBLISH
X-PUBLISHED-TTL:P3D
REFRESH-INTERVAL:P3D
CALSCALE:GREGORIAN
BEGIN:VEVENT
DTSTART:20190608T120000Z
DTEND:20190608T170000Z
X-MICROSOFT-CDO-ALLDAYEVENT:FALSE
SUMMARY:Halifax Farmers Market Community Fun Day
DESCRIPTION:Fresh produce\, pasture raised meats\, herbs\, baked goods\, farm fresh eggs\, jams & jellies\, local arts & crafts\, pork skins\, essential oils\, upcycled furnitures & MUCH MORE!\n\n\n\nThis weeks activities include:\n\nMining For Gems 9 am - 12:30 pm\n\n$6 per person - all ages welcome\n\n\n\nFairy Garden Contest 8 am - 11 am\n\nFree and open to all ages. Hosted by the Southside Master Gardeners.\n\n\n\nFeelin' Fishy 9 am - 12 pm\n\nFish display\, info about fishing in the parks & a fishy painting craft to take home. Free to all. Hosted by Staunton River Battlefield State Park.\n\n\n\nFor more information call 434-476-2343 or Visit on Facebook @townofhalifaxfarmersmarket
X-ALT-DESC;FMTTYPE=text/html:Fresh produce\, pasture raised meats\, herbs\, baked goods\, farm fresh eggs\, jams &amp\; jellies\, local arts &amp\; crafts\, pork skins\, essential oils\, upcycled furnitures &amp\; MUCH MORE!<br />\n<br />\nThis weeks activities include:<br />\n<u>Mining For Gems</u>&nbsp\;9 am - 12:30 pm<br />\n$6 per person - all ages welcome<br />\n<br />\n<u>Fairy Garden Contest</u>&nbsp\;8 am - 11 am<br />\nFree and open to all ages. Hosted by the Southside Master Gardeners.<br />\n<br />\n<u>Feelin&#39\; Fishy</u>&nbsp\;9 am - 12 pm<br />\nFish display\, info about fishing in the parks &amp\; a fishy painting craft to take home. Free to all. Hosted by Staunton River Battlefield State Park.<br />\n<br />\nFor more information call 434-476-2343 or Visit on Facebook @townofhalifaxfarmersmarket
LOCATION:Halifax Farmers Market 209 South Main Street Halifax\, VA 24558
UID:e.845.13154
SEQUENCE:3
DTSTAMP:20260421T044555Z
URL:https://business.halifaxchamber.net/events/details/halifax-farmers-market-community-fun-day-13154
END:VEVENT

END:VCALENDAR
