BEGIN:VCALENDAR
VERSION:2.0
PRODID:-//ChamberMaster//Event Calendar 2.0//EN
METHOD:PUBLISH
X-PUBLISHED-TTL:P3D
REFRESH-INTERVAL:P3D
CALSCALE:GREGORIAN
BEGIN:VEVENT
DTSTART:20191117T180000Z
DTEND:20191117T220000Z
X-MICROSOFT-CDO-ALLDAYEVENT:FALSE
SUMMARY:Halifax Farmers Market Open House
DESCRIPTION:Join the Halifax Farmers Market for an open house including: vendors\, shopping\, refreshments\, christmas photos and kids crafts.
X-ALT-DESC;FMTTYPE=text/html:Join the Halifax Farmers Market for an open house including: vendors\, shopping\, refreshments\, christmas photos and kids crafts.
LOCATION:209 South Main Street Halifax\, VA 24592
UID:e.845.13449
SEQUENCE:3
DTSTAMP:20260420T200327Z
URL:https://business.halifaxchamber.net/events/details/halifax-farmers-market-open-house-13449
END:VEVENT

END:VCALENDAR
