BEGIN:VCALENDAR
VERSION:2.0
PRODID:-//ChamberMaster//Event Calendar 2.0//EN
METHOD:PUBLISH
X-PUBLISHED-TTL:P3D
REFRESH-INTERVAL:P3D
CALSCALE:GREGORIAN
BEGIN:VEVENT
DTSTART:20200718T120000Z
DTEND:20200718T160000Z
X-MICROSOFT-CDO-ALLDAYEVENT:FALSE
SUMMARY:Halifax Market Place Season Opening
DESCRIPTION:Join us at Halifax Market Place as we celebrate our local farmers and producers! Fresh produce\, free range eggs\, pasture raised pork\, fresh herbs\, baked goods\, handmade items and MUCH MORE! Free hot dogs and chips\, vendor giveaways\, free craft kits for the kids and much more! Come and show our local farmers and producers just how much you love local!
X-ALT-DESC;FMTTYPE=text/html:<span style="color: rgb(5\, 5\, 5)\; font-family: system-ui\, -apple-system\, system-ui\, &quot\;.SFNSText-Regular&quot\;\, sans-serif\; font-size: 15px\;">Join us at Halifax Market Place as we celebrate our local farmers and producers! Fresh produce\, free range eggs\, pasture raised pork\, fresh herbs\, baked goods\, handmade items and MUCH MORE! Free hot dogs and chips\, vendor giveaways\, free craft kits for the kids and much more! Come and show our local farmers and producers just how much you love local!</span>
LOCATION:Halifax Market Place 209 S. Main St Halifax\, VA 24558
UID:e.845.17710
SEQUENCE:3
DTSTAMP:20260420T063044Z
URL:https://business.halifaxchamber.net/events/details/halifax-market-place-season-opening-17710
END:VEVENT

END:VCALENDAR
