BEGIN:VCALENDAR
VERSION:2.0
PRODID:-//ChamberMaster//Event Calendar 2.0//EN
METHOD:PUBLISH
X-PUBLISHED-TTL:P3D
REFRESH-INTERVAL:P3D
CALSCALE:GREGORIAN
BEGIN:VEVENT
DTSTART:20200229T150000Z
DTEND:20200229T190000Z
X-MICROSOFT-CDO-ALLDAYEVENT:FALSE
SUMMARY:Halifax South Boston Dixie Softball Sign Ups
DESCRIPTION:Sign ups for Halifax/ South Boston Dixie Softball will be held at Halifax County High School on February 22nd and 29th\, and at Wendy's on February 27th.
X-ALT-DESC;FMTTYPE=text/html:Sign ups for Halifax/ South Boston Dixie Softball will be held at Halifax County High School on February 22nd and 29th\, and at Wendy&#39\;s on February 27th.
LOCATION:Halifax County High School 1 High School Cir South Boston\, VA 24592
UID:e.845.17467
SEQUENCE:3
DTSTAMP:20260420T165531Z
URL:https://business.halifaxchamber.net/events/details/halifax-south-boston-dixie-softball-sign-ups-17467
END:VEVENT

END:VCALENDAR
