BEGIN:VCALENDAR
VERSION:2.0
PRODID:-//ChamberMaster//Event Calendar 2.0//EN
METHOD:PUBLISH
X-PUBLISHED-TTL:P3D
REFRESH-INTERVAL:P3D
CALSCALE:GREGORIAN
BEGIN:VEVENT
DTSTART:20200227T220000Z
DTEND:20200228T010000Z
X-MICROSOFT-CDO-ALLDAYEVENT:FALSE
SUMMARY:Halifax South Boston Dixie Softball Sign Ups
DESCRIPTION:Sign ups for Halifax/ South Boston Dixie Softball will be held at Halifax County High School on February 22nd and 29th\, and at Wendy's on February 27th.
X-ALT-DESC;FMTTYPE=text/html:Sign ups for Halifax/ South Boston Dixie Softball will be held at Halifax County High School on February 22nd and 29th\, and at Wendy&#39\;s on February 27th.
LOCATION:Wendy's 3461 Old Halifax Rd South Boston\, VA 24592
UID:e.845.17468
SEQUENCE:3
DTSTAMP:20260420T165450Z
URL:https://business.halifaxchamber.net/events/details/halifax-south-boston-dixie-softball-sign-ups-17468
END:VEVENT

END:VCALENDAR
