BEGIN:VCALENDAR
VERSION:2.0
PRODID:-//ChamberMaster//Event Calendar 2.0//EN
METHOD:PUBLISH
X-PUBLISHED-TTL:P3D
REFRESH-INTERVAL:P3D
CALSCALE:GREGORIAN
BEGIN:VEVENT
DTSTART:20191008T223000Z
DTEND:20191008T223000Z
X-MICROSOFT-CDO-ALLDAYEVENT:FALSE
SUMMARY:Halifax Town Council Meeting
DESCRIPTION:Halifax Town Council will hold their monthly meeting.
X-ALT-DESC;FMTTYPE=text/html:Halifax Town Council will hold their monthly meeting.
LOCATION:Halifax Town Hall
UID:e.845.13437
SEQUENCE:3
DTSTAMP:20260420T234157Z
URL:https://business.halifaxchamber.net/events/details/halifax-town-council-meeting-13437
END:VEVENT

END:VCALENDAR
