BEGIN:VCALENDAR
VERSION:2.0
PRODID:-//ChamberMaster//Event Calendar 2.0//EN
METHOD:PUBLISH
X-PUBLISHED-TTL:P3D
REFRESH-INTERVAL:P3D
CALSCALE:GREGORIAN
BEGIN:VEVENT
DTSTART:20200422T223000Z
DTEND:20200422T223000Z
X-MICROSOFT-CDO-ALLDAYEVENT:FALSE
SUMMARY:Halifax Town Council Meeting
DESCRIPTION:Halifax Town Council meeting will be held. Due to the COVID-19 Pandemic\, and in accordance with the Stay at Home Order placing restrictions on public gatherings\, the Council may consider adopting certain protocols by ordinance to conduct the meeting safely.
X-ALT-DESC;FMTTYPE=text/html:Halifax Town Council meeting will be held. Due to the COVID-19 Pandemic\, and in accordance with the Stay at Home Order placing restrictions on public gatherings\, the Council may consider adopting certain protocols by ordinance to conduct the meeting safely.
LOCATION:Halifax Town Hall 70 Main St Halifax\, VA 24558
UID:e.845.17572
SEQUENCE:3
DTSTAMP:20260420T132201Z
URL:https://business.halifaxchamber.net/events/details/halifax-town-council-meeting-17572
END:VEVENT

END:VCALENDAR
