BEGIN:VCALENDAR
VERSION:2.0
PRODID:-//ChamberMaster//Event Calendar 2.0//EN
METHOD:PUBLISH
X-PUBLISHED-TTL:P3D
REFRESH-INTERVAL:P3D
CALSCALE:GREGORIAN
BEGIN:VEVENT
DTSTART:20190209T150000Z
DTEND:20190209T170000Z
X-MICROSOFT-CDO-ALLDAYEVENT:FALSE
SUMMARY:Halifax Virginia AYSO Soccer
DESCRIPTION:AYSO Soccer Registration
X-ALT-DESC;FMTTYPE=text/html:AYSO Soccer Registration
LOCATION:Washington Coleman Community Center
UID:e.845.12000
SEQUENCE:3
DTSTAMP:20260423T090747Z
URL:https://business.halifaxchamber.net/events/details/halifax-virginia-ayso-soccer-12000
END:VEVENT

END:VCALENDAR
