BEGIN:VCALENDAR
VERSION:2.0
PRODID:-//ChamberMaster//Event Calendar 2.0//EN
METHOD:PUBLISH
X-PUBLISHED-TTL:P3D
REFRESH-INTERVAL:P3D
CALSCALE:GREGORIAN
BEGIN:VEVENT
DTSTART:20190207T220000Z
DTEND:20190208T000000Z
X-MICROSOFT-CDO-ALLDAYEVENT:FALSE
SUMMARY:Halifax Virginia AYSO Soccer 2/7/19
DESCRIPTION:AYSO Soccer Registration
X-ALT-DESC;FMTTYPE=text/html:AYSO Soccer Registration
LOCATION:Washington Coleman Community Center
UID:e.845.11999
SEQUENCE:3
DTSTAMP:20260421T122759Z
URL:https://business.halifaxchamber.net/events/details/halifax-virginia-ayso-soccer-2-7-19-11999
END:VEVENT

END:VCALENDAR
