BEGIN:VCALENDAR
VERSION:2.0
PRODID:-//ChamberMaster//Event Calendar 2.0//EN
METHOD:PUBLISH
X-PUBLISHED-TTL:P3D
REFRESH-INTERVAL:P3D
CALSCALE:GREGORIAN
BEGIN:VEVENT
DTSTART:20191012T110000Z
DTEND:20191012T160000Z
X-MICROSOFT-CDO-ALLDAYEVENT:FALSE
SUMMARY:Halifax Volunteer Fire Department Giant Indoor Yard Sale Fundraiser
DESCRIPTION:Join the Halifax Volunteer Fire Department for their Giant Indoor Yard Sale Fundraiser.\n\nDrop off dates & times are October 8th and 9th from 6-8pm.\n\nDrop off all items behind Halifax Volunteer Dire Department\n\nContact any member with questions about donations.\n\n\n\nAll proceeds benefit the Halifax Volunteer Fire Department
X-ALT-DESC;FMTTYPE=text/html:Join the Halifax Volunteer Fire Department for their Giant Indoor Yard Sale Fundraiser.<br />\nDrop off dates &amp\; times are October 8th and 9th from 6-8pm.<br />\nDrop off all items behind Halifax Volunteer Dire Department<br />\nContact any member with questions about donations.<br />\n<br />\nAll proceeds benefit the Halifax Volunteer Fire Department
LOCATION:Halifax Volunteer Fire Department 375 N Main Street Halifax\, VA 24558
UID:e.845.13297
SEQUENCE:3
DTSTAMP:20260420T221452Z
URL:https://business.halifaxchamber.net/events/details/halifax-volunteer-fire-department-giant-indoor-yard-sale-fundraiser-13297
END:VEVENT

END:VCALENDAR
