BEGIN:VCALENDAR
VERSION:2.0
PRODID:-//ChamberMaster//Event Calendar 2.0//EN
METHOD:PUBLISH
X-PUBLISHED-TTL:P3D
REFRESH-INTERVAL:P3D
CALSCALE:GREGORIAN
BEGIN:VEVENT
DTSTART:20170401T130000Z
DTEND:20170401T190000Z
X-MICROSOFT-CDO-ALLDAYEVENT:FALSE
SUMMARY:Halifcraft Art Festival
DESCRIPTION:Fine Art\, Crafts\, Children's Activities\, Live music\, Food and more!
X-ALT-DESC;FMTTYPE=text/html:Fine Art\, Crafts\, Children&#39\;s Activities\, Live music\, Food and more!&nbsp\;
LOCATION:Main Street in Halifax\, VA
UID:e.845.5836
SEQUENCE:3
DTSTAMP:20260424T114203Z
URL:https://business.halifaxchamber.net/events/details/halifcraft-art-festival-5836
END:VEVENT

END:VCALENDAR
