BEGIN:VCALENDAR
VERSION:2.0
PRODID:-//ChamberMaster//Event Calendar 2.0//EN
METHOD:PUBLISH
X-PUBLISHED-TTL:P3D
REFRESH-INTERVAL:P3D
CALSCALE:GREGORIAN
BEGIN:VEVENT
DTSTART:20161030T000000Z
DTEND:20161030T040000Z
X-MICROSOFT-CDO-ALLDAYEVENT:FALSE
SUMMARY:HALLOWEEN GRAVEYARD GALA
DESCRIPTION:HALLOWEEN GRAVEYARD GALA presented by 95.3 & Berry Hill Resort featuring music by 6th N Main.\n\nTheme Buffett\n\nCash Bar\n\nHalloween Costume Contest ( scariest - funniest - most original )
X-ALT-DESC;FMTTYPE=text/html:HALLOWEEN GRAVEYARD GALA presented by 95.3 &amp\; Berry Hill Resort featuring music by 6th N Main.<br />\nTheme Buffett<br />\nCash Bar<br />\nHalloween Costume Contest ( scariest - funniest - most original )<br />\n&nbsp\;
LOCATION:Berry Hill Resort Grand Ballroom 3105 River Road South Boston\, VA 24592
UID:e.845.5716
SEQUENCE:3
DTSTAMP:20260424T211022Z
URL:https://business.halifaxchamber.net/events/details/halloween-graveyard-gala-5716
END:VEVENT

END:VCALENDAR
