BEGIN:VCALENDAR
VERSION:2.0
PRODID:-//ChamberMaster//Event Calendar 2.0//EN
METHOD:PUBLISH
X-PUBLISHED-TTL:P3D
REFRESH-INTERVAL:P3D
CALSCALE:GREGORIAN
BEGIN:VEVENT
DTSTART:20191101T000000Z
DTEND:20191101T035500Z
X-MICROSOFT-CDO-ALLDAYEVENT:FALSE
SUMMARY:Halloween Open Mic
DESCRIPTION:Join JB's for a Halloween Bash/Open Mic Jam\n\nBring your instrument to jam\, or just sit and eat\, drink\, dance and listen to good music by the area's musicians and entertainers!
X-ALT-DESC;FMTTYPE=text/html:Join JB&#39\;s for a Halloween Bash/Open Mic Jam<br />\nBring your instrument to jam\, or just sit and eat\, drink\, dance and listen to good music by the area&#39\;s musicians and entertainers!
LOCATION:JB's Burger's\, Apps\, & Taps 2030 Bill Tuck Highway South Boston\, VA 24592
UID:e.845.15493
SEQUENCE:3
DTSTAMP:20260420T233101Z
URL:https://business.halifaxchamber.net/events/details/halloween-open-mic-15493
END:VEVENT

END:VCALENDAR
