BEGIN:VCALENDAR
VERSION:2.0
PRODID:-//ChamberMaster//Event Calendar 2.0//EN
METHOD:PUBLISH
X-PUBLISHED-TTL:P3D
REFRESH-INTERVAL:P3D
CALSCALE:GREGORIAN
BEGIN:VEVENT
DTSTART:20201011T190000Z
DTEND:20201011T210000Z
X-MICROSOFT-CDO-ALLDAYEVENT:FALSE
SUMMARY:Halloween Paint and Play
DESCRIPTION:Art Acoustix and World of Sports Present a Halloween Paint and Play\, October 11th at 3:00pm.\n\n$20 Ticket Includes 8x10 canvas\, a pumpkin to pain and a $5 arcade card. Costumes encouraged. Prize for best costume! \n\nIn order to keep everyone safe mask are required and temperatures will be checked. \n\nRegister by October 5th by contacting Melissa at (434) 755-7141
X-ALT-DESC;FMTTYPE=text/html:<div>Art Acoustix and World of Sports Present a Halloween Paint and Play\, October 11th at 3:00pm.</div>\n\n<div>$20 Ticket Includes 8x10 canvas\, a pumpkin to pain and a $5 arcade card. Costumes encouraged. Prize for best costume!&nbsp\;</div>\n\n<div>In order to keep everyone safe mask are required and temperatures will be checked.&nbsp\;</div>\n\n<div>Register by October 5th by contacting Melissa at (434) 755-7141</div>\n
LOCATION:World of Sports 2030 Bill Tuck Highway South Boston\, VA 24592
UID:e.845.17789
SEQUENCE:3
DTSTAMP:20260420T012505Z
URL:https://business.halifaxchamber.net/events/details/halloween-paint-and-play-17789
END:VEVENT

END:VCALENDAR
