BEGIN:VCALENDAR
VERSION:2.0
PRODID:-//ChamberMaster//Event Calendar 2.0//EN
METHOD:PUBLISH
X-PUBLISHED-TTL:P3D
REFRESH-INTERVAL:P3D
CALSCALE:GREGORIAN
BEGIN:VEVENT
DTSTART:20201015T220000Z
DTEND:20201016T000000Z
X-MICROSOFT-CDO-ALLDAYEVENT:FALSE
SUMMARY:Halloween Paint and Sip
DESCRIPTION:Art Acoustix and the World of Sports present Paint & Sip Thursday\, October 15th at 6:00. Get your friends together for a fun evening of painting and sipping.\n\n$30 ticket includes 11x14 canvas and a $10 beverage voucher. Dress in your favorite Halloween Costume -- we will have a Photo Booth and Costume Contest. 1st place will receive a prize! \n\nContact Melissa at (434) 755-7141 by October 8th to register. \n\nIn order to keep everyone safe mask are required and temperatures will be checked.
X-ALT-DESC;FMTTYPE=text/html:<div>Art Acoustix and the World of Sports present Paint &amp\; Sip Thursday\, October 15th at 6:00. Get your friends together for a fun evening of painting and sipping.</div>\n\n<div>$30 ticket includes 11x14 canvas and a $10 beverage voucher. Dress in your favorite Halloween Costume -- we will have a Photo Booth and Costume Contest. 1st place will receive a prize!&nbsp\;<br />\nContact Melissa at (434) 755-7141 by October 8th to register.&nbsp\;</div>\n\n<div>In order to keep everyone safe mask are required and temperatures will be checked.</div>\n
LOCATION:World of Sports 2030 Bill Tuck Highway South Boston\, VA
UID:e.845.17790
SEQUENCE:3
DTSTAMP:20260420T031837Z
URL:https://business.halifaxchamber.net/events/details/halloween-paint-and-sip-17790
END:VEVENT

END:VCALENDAR
