BEGIN:VCALENDAR
VERSION:2.0
PRODID:-//ChamberMaster//Event Calendar 2.0//EN
METHOD:PUBLISH
X-PUBLISHED-TTL:P3D
REFRESH-INTERVAL:P3D
CALSCALE:GREGORIAN
BEGIN:VEVENT
DTSTART:20191101T220000Z
DTEND:20191102T010000Z
X-MICROSOFT-CDO-ALLDAYEVENT:FALSE
SUMMARY:Halloween Parents Night Out
DESCRIPTION:Drop off the kids\, costume and all\, the night after Halloween for a night of pizza\, games and fun!\n\nThey don't have to be students to enjoy this spooky night! They'll play games\, have a costume competition and chances to win candy prizes.\n\nAges 5 and up.\n\nCall or come to the front desk to sign up 434.575.8888
X-ALT-DESC;FMTTYPE=text/html:Drop off the kids\, costume and all\, the night after Halloween for a night of pizza\, games and fun!<br />\nThey don&#39\;t have to be students to enjoy this spooky night! They&#39\;ll play games\, have a costume competition and chances to win candy prizes.<br />\nAges 5 and up.<br />\nCall or come to the front desk to sign up 434.575.8888
LOCATION:Adams Total Fitness 2000 Seymour Drive South Boston\, VA 24592
UID:e.845.14472
SEQUENCE:3
DTSTAMP:20260420T200024Z
URL:https://business.halifaxchamber.net/events/details/halloween-parents-night-out-14472
END:VEVENT

END:VCALENDAR
