BEGIN:VCALENDAR
VERSION:2.0
PRODID:-//ChamberMaster//Event Calendar 2.0//EN
METHOD:PUBLISH
X-PUBLISHED-TTL:P3D
REFRESH-INTERVAL:P3D
CALSCALE:GREGORIAN
BEGIN:VEVENT
DTSTART:20191102T010000Z
DTEND:20191102T035500Z
X-MICROSOFT-CDO-ALLDAYEVENT:FALSE
SUMMARY:Halloween Party with Misbehavin
DESCRIPTION:Join us for some Halloween Fun at the World of Sports! Misbehavin will be performing starting at 9pm. Be sure to dress in costume as there will be a costume contest for sexiest\, scariest\, and most original.
X-ALT-DESC;FMTTYPE=text/html:Join us for some Halloween Fun at the World of Sports! Misbehavin will be performing starting at 9pm. Be sure to dress in costume as there will be a costume contest for sexiest\, scariest\, and most original.<br />\n<br />\n&nbsp\;
LOCATION:World of Sports 2030 Bill Tuck Highway South Boston\, VA 24592
UID:e.845.15512
SEQUENCE:3
DTSTAMP:20260420T195820Z
URL:https://business.halifaxchamber.net/events/details/halloween-party-with-misbehavin-15512
END:VEVENT

END:VCALENDAR
