BEGIN:VCALENDAR
VERSION:2.0
PRODID:-//ChamberMaster//Event Calendar 2.0//EN
METHOD:PUBLISH
X-PUBLISHED-TTL:P3D
REFRESH-INTERVAL:P3D
CALSCALE:GREGORIAN
BEGIN:VEVENT
DTSTART:20191013T000000Z
DTEND:20191013T035500Z
X-MICROSOFT-CDO-ALLDAYEVENT:FALSE
SUMMARY:Halloween Super Moonlight Bowling Bash
DESCRIPTION:We are turning the lights down and music up this Saturday\, October 12th for the Halloween Super Moonlight Bowling Bash featuring DJ B-Ham.\n\n\n\nDress up in your best costume\, come bowling with your friends and family and win prizes! \n\nThe fun starts at 8:00. Costume Contest at 10:00PM.
X-ALT-DESC;FMTTYPE=text/html:<strong><span style="color:rgb(255\, 140\, 0)">We are turning the lights down and&nbsp\;music up this Saturday\,&nbsp\;October&nbsp\;12th&nbsp\;for the Halloween&nbsp\;Super Moonlight Bowling Bash featuring DJ B-Ham.<br />\n<br />\nDress up&nbsp\;in your best costume\, come bowling with your friends and family and win prizes!&nbsp\;<br />\nThe fun starts at 8:00. Costume Contest at 10:00PM.</span></strong>
LOCATION:World of Sports 2030 Bill Tuck Highway South Boston\, VA
UID:e.845.14468
SEQUENCE:3
DTSTAMP:20260420T233034Z
URL:https://business.halifaxchamber.net/events/details/halloween-super-moonlight-bowling-bash-14468
END:VEVENT

END:VCALENDAR
