BEGIN:VCALENDAR
VERSION:2.0
PRODID:-//ChamberMaster//Event Calendar 2.0//EN
METHOD:PUBLISH
X-PUBLISHED-TTL:P3D
REFRESH-INTERVAL:P3D
CALSCALE:GREGORIAN
BEGIN:VEVENT
DTSTART:20171031T220000Z
DTEND:20171101T000000Z
X-MICROSOFT-CDO-ALLDAYEVENT:FALSE
SUMMARY:Halloween Treat Trail
DESCRIPTION:2017 Town of Halifax Treat Trail on Main Street in the Town of Halifax and at the Town of Halifax Farmers Market. \n\n\n\nTrunk or Treat and Hot Dogs (while supplies last) at Beth Car Baptist Church at 5:30.\n\n\n\nCostume contest at Hite Insurance.\n\nHalloween photos at the Farmers Market.\n\nCake-walk next to Bagwell and Bagwell.\n\n\n\nSponsored by: The Halifax Village Association & The Town of Halifax
X-ALT-DESC;FMTTYPE=text/html:2017 Town of Halifax Treat Trail on Main Street in the Town of Halifax and at the Town of Halifax Farmers Market.&nbsp\;<br />\n<br />\nTrunk or Treat and Hot Dogs (while supplies last) at Beth Car Baptist Church at 5:30.<br />\n<br />\nCostume contest at Hite Insurance.<br />\nHalloween photos at the Farmers Market.<br />\nCake-walk next to Bagwell and Bagwell.<br />\n<br />\nSponsored by: The Halifax Village Association &amp\; The Town of Halifax&nbsp\;<br />\n<br />\n&nbsp\;
LOCATION:Town of Halifax Main Street Halifax\, VA 24558
UID:e.845.5852
SEQUENCE:3
DTSTAMP:20260422T135742Z
URL:https://business.halifaxchamber.net/events/details/halloween-treat-trail-5852
END:VEVENT

END:VCALENDAR
