BEGIN:VCALENDAR
VERSION:2.0
PRODID:-//ChamberMaster//Event Calendar 2.0//EN
METHOD:PUBLISH
X-PUBLISHED-TTL:P3D
REFRESH-INTERVAL:P3D
CALSCALE:GREGORIAN
BEGIN:VEVENT
DTSTART:20190810T140000Z
DTEND:20190810T153000Z
X-MICROSOFT-CDO-ALLDAYEVENT:FALSE
SUMMARY:Hand Painted Picnic Tables Silent Auction
DESCRIPTION:The Town of Halifax Farmers' Market will hold a silent auction as a fundraiser for the libraries. One of a kind picnic tables will be on display at the Town of Halifax Farmers' Market during the month of July. Stop by and see them. Then make sure you are at the Market on August 10th to place your bid.\n\nFunds raised will be used to purchase new computers.
X-ALT-DESC;FMTTYPE=text/html:The Town of Halifax Farmers&#39\; Market will hold a silent auction as a fundraiser for the libraries. One of a kind picnic tables will be on display at the Town of Halifax Farmers&#39\; Market during the month of July. Stop by and see them. Then make sure you are at the Market on August 10th to place your bid.<br />\nFunds raised will be used to purchase new computers.
LOCATION:Town of Halifax Farmers' Market 209 South Main St. Halifax\, VA 24558
UID:e.845.13250
SEQUENCE:3
DTSTAMP:20260421T012243Z
URL:https://business.halifaxchamber.net/events/details/hand-painted-picnic-tables-silent-auction-13250
END:VEVENT

END:VCALENDAR
