BEGIN:VCALENDAR
VERSION:2.0
PRODID:-//ChamberMaster//Event Calendar 2.0//EN
METHOD:PUBLISH
X-PUBLISHED-TTL:P3D
REFRESH-INTERVAL:P3D
CALSCALE:GREGORIAN
BEGIN:VEVENT
DTSTART:20190529T203000Z
DTEND:20190529T223000Z
X-MICROSOFT-CDO-ALLDAYEVENT:FALSE
SUMMARY:Happy Hour on the Lawn
DESCRIPTION:Join Commonwealth Senior Living for Happy Hour on the Lawn. Stop by with a friend - or come make some new ones. You can sit back and relax and unwind.\n\n\n\nRefreshments and live entertainment provided.\n\nCall 434.575.5400 to RSVP today!
X-ALT-DESC;FMTTYPE=text/html:Join Commonwealth Senior Living for Happy Hour on the Lawn. Stop by with a friend - or come make some new ones. You can sit back and relax and unwind.<br />\n<br />\n<em>Refreshments and live entertainment provided.</em><br />\n<strong>Call 434.575.5400 to RSVP today!</strong>
LOCATION:Commonwealth Senior Living 435 Hamilton Boulevard South Boston\, VA 24592
UID:e.845.13120
SEQUENCE:3
DTSTAMP:20260421T075853Z
URL:https://business.halifaxchamber.net/events/details/happy-hour-on-the-lawn-13120
END:VEVENT

END:VCALENDAR
