BEGIN:VCALENDAR
VERSION:2.0
PRODID:-//ChamberMaster//Event Calendar 2.0//EN
METHOD:PUBLISH
X-PUBLISHED-TTL:P3D
REFRESH-INTERVAL:P3D
CALSCALE:GREGORIAN
BEGIN:VEVENT
DTSTART:20200926T120000Z
DTEND:20200926T160000Z
X-MICROSOFT-CDO-ALLDAYEVENT:FALSE
SUMMARY:Harvest Festival at the Downtown South Boston Farmers Market
DESCRIPTION:We are so excited that Fall is in the air and it is time to Harvest some of our favorite crops! Please join us Sept 26 to celebrate Harvest! There will be tons of childrens activities\, Pop Program\, Vendors\, face painting\, and a live band! Stay tuned for more info and we cant wait to see you and your family there!
X-ALT-DESC;FMTTYPE=text/html:<span style="color: rgb(5\, 5\, 5)\; font-family: system-ui\, -apple-system\, system-ui\, &quot\;.SFNSText-Regular&quot\;\, sans-serif\; font-size: 15px\;">We are so excited that Fall is in the air and it is time to Harvest some of our favorite crops! Please join us Sept 26 to celebrate Harvest! There will be tons of childrens activities\, Pop Program\, Vendors\, face painting\, and a live band! Stay tuned for more info and we cant wait to see you and your family there!</span>
LOCATION:Downtown South Boston Farmers Market 300 Broad St South Boston\, VA 24592
UID:e.845.17778
SEQUENCE:3
DTSTAMP:20260420T033118Z
URL:https://business.halifaxchamber.net/events/details/harvest-festival-at-the-downtown-south-boston-farmers-market-17778
END:VEVENT

END:VCALENDAR
