BEGIN:VCALENDAR
VERSION:2.0
PRODID:-//ChamberMaster//Event Calendar 2.0//EN
METHOD:PUBLISH
X-PUBLISHED-TTL:P3D
REFRESH-INTERVAL:P3D
CALSCALE:GREGORIAN
BEGIN:VEVENT
DTSTART:20171021T103000Z
DTEND:20171021T213000Z
X-MICROSOFT-CDO-ALLDAYEVENT:FALSE
SUMMARY:Harvest Moon Hot Laps PDX at VIR
DESCRIPTION:A one day SCCA Performance Driving eXperience (PDX) conducted by the North Carolina Region\, SCCA. PDX Student drivers can expect four\, 20 minute driving sessions\, with classroom discussions held between on-track sessions for instructed groups.
X-ALT-DESC;FMTTYPE=text/html:<span style="color: rgb(75\, 79\, 86)\; font-family: &quot\;SF Optimized&quot\;\, system-ui\, -apple-system\, system-ui\, &quot\;.SFNSText-Regular&quot\;\, sans-serif\; font-size: 14px\; letter-spacing: -0.12px\;">A one day SCCA Performance Driving eXperience (PDX) conducted by the North Carolina Region\, SCCA. PDX Student drivers can expect four\, 20 minute driving sessions\, with classroom discussions held between on-track sessions for instructed groups.&nbsp\;</span>
LOCATION:Virginia International Raceway 1245 Pine Tree Road Alton\, VA
UID:e.845.7134
SEQUENCE:3
DTSTAMP:20260422T135849Z
URL:https://business.halifaxchamber.net/events/details/harvest-moon-hot-laps-pdx-at-vir-7134
END:VEVENT

END:VCALENDAR
