BEGIN:VCALENDAR
VERSION:2.0
PRODID:-//ChamberMaster//Event Calendar 2.0//EN
METHOD:PUBLISH
X-PUBLISHED-TTL:P3D
REFRESH-INTERVAL:P3D
CALSCALE:GREGORIAN
BEGIN:VEVENT
DTSTART:20191025T223000Z
DTEND:20191026T020000Z
X-MICROSOFT-CDO-ALLDAYEVENT:FALSE
SUMMARY:Haunted Costume Dinner Party
DESCRIPTION:Live music\, dinner buffet\, prizes for best costume.\n\nCall for a spooktacular room discount.\n\n$30 - Single ticket\n\n$50 - Couples ticket
X-ALT-DESC;FMTTYPE=text/html:Live music\, dinner buffet\, prizes for best costume.<br />\nCall for a spooktacular room discount.<br />\n$30 - Single ticket<br />\n$50 - Couples ticket
LOCATION:Berry Hill Resort 3105 River Road South Boston\, VA 24592
UID:e.845.14461
SEQUENCE:3
DTSTAMP:20260420T233834Z
URL:https://business.halifaxchamber.net/events/details/haunted-costume-dinner-party-14461
END:VEVENT

END:VCALENDAR
