BEGIN:VCALENDAR
VERSION:2.0
PRODID:-//ChamberMaster//Event Calendar 2.0//EN
METHOD:PUBLISH
X-PUBLISHED-TTL:P3D
REFRESH-INTERVAL:P3D
CALSCALE:GREGORIAN
BEGIN:VEVENT
DTSTART;VALUE=DATE:20170604
DTEND;VALUE=DATE:20170605
TRANSP:TRANSPARENT
X-MICROSOFT-CDO-ALLDAYEVENT:TRUE
SUMMARY:HCCA Celebration of Life
DESCRIPTION:Details to come.
X-ALT-DESC;FMTTYPE=text/html:Details to come.
LOCATION:
UID:e.845.5834
SEQUENCE:3
DTSTAMP:20260422T231259Z
URL:https://business.halifaxchamber.net/events/details/hcca-celebration-of-life-5834
END:VEVENT

END:VCALENDAR
