BEGIN:VCALENDAR
VERSION:2.0
PRODID:-//ChamberMaster//Event Calendar 2.0//EN
METHOD:PUBLISH
X-PUBLISHED-TTL:P3D
REFRESH-INTERVAL:P3D
CALSCALE:GREGORIAN
BEGIN:VEVENT
DTSTART:20171126T223000Z
DTEND:20171126T233000Z
X-MICROSOFT-CDO-ALLDAYEVENT:FALSE
SUMMARY:HCCA Luminary Service
DESCRIPTION:Halifax County Cancer Association will host a luminary service to remember and honor cancer patients on the court house steps in Halifax\, VA.\n\n \n*The service will be held as a way to honor or remember a loved one who is a survivor\, is fighting\, or has lost their battle to cancer.\n\n*Luminary bags are available for you to decorate in a way that represents your loved one. There is no cost but a donation is appreciated.\n\n*On November 26th\, the bags will be lit\, names will be read to memorialize or honor family or friends\, then the names will be published in the newspaper.\n\nBags are available at the following locations before November 26:\n\nHalifax County Cancer Association M-F 9-1 \n\nHite Insurance Main Street Halifax\n\nGregory Florist in South Boston \n\nHoliday Living Show\, Norwex Booth (Teressa Davis)\n\n\nBags are available at the following locations on November 26:\n\nHalifax County Cancer Association office between 2pm and 4:30pm
X-ALT-DESC;FMTTYPE=text/html:Halifax County Cancer Association will host a luminary service to remember and honor cancer patients on the court house steps in Halifax\, VA.<br />\n&nbsp\;\n<p style="margin: 0px 0px 6px\; font-family: &quot\;SF Optimized&quot\;\, system-ui\, -apple-system\, system-ui\, &quot\;.SFNSText-Regular&quot\;\, sans-serif\; color: rgb(29\, 33\, 41)\; font-size: 14px\; letter-spacing: -0.12px\;">*The service will be held as a way to honor or remember a loved one who is a survivor\, is fighting\, or has lost their battle to cancer.<br />\n*Luminary bags are available for you to decorate in a way that represents your loved one. There is no cost but a donation is appreciated.<br />\n*On November 26th\, the bags will be lit\, names will be read to memorialize or honor family or friends\, then the names will be published in the newspaper.</p>\n\n<p style="margin: 6px 0px\; font-family: &quot\;SF Optimized&quot\;\, system-ui\, -apple-system\, system-ui\, &quot\;.SFNSText-Regular&quot\;\, sans-serif\; color: rgb(29\, 33\, 41)\; font-size: 14px\; letter-spacing: -0.12px\;">Bags are available at the following locations b<span style="color: rgb(29\, 33\, 41)\; font-family: &quot\;SF Optimized&quot\;\, system-ui\, -apple-system\, system-ui\, &quot\;.SFNSText-Regular&quot\;\, sans-serif\; font-size: 14px\; letter-spacing: -0.12px\;">efore November 26</span>:<br />\n<span class="text_exposed_show" style="display: inline\; font-family: inherit\;">Halifax County Cancer Association M-F 9-1&nbsp\;<br />\nHite Insurance Main Street Halifax<br />\nGregory Florist in South Boston&nbsp\;<br />\nHoliday Living Show\, Norwex Booth (Teressa Davis)</span></p>\n\n<div class="text_exposed_show" style="display: inline\; font-family: &quot\;SF Optimized&quot\;\, system-ui\, -apple-system\, system-ui\, &quot\;.SFNSText-Regular&quot\;\, sans-serif\; color: rgb(29\, 33\, 41)\; font-size: 14px\; letter-spacing: -0.12px\;">\n<p style="margin: 0px 0px 6px\; font-family: inherit\;"><span style="color: rgb(29\, 33\, 41)\; font-family: &quot\;SF Optimized&quot\;\, system-ui\, -apple-system\, system-ui\, &quot\;.SFNSText-Regular&quot\;\, sans-serif\; font-size: 14px\; letter-spacing: -0.12px\;">Bags are available at the following </span><span style="color: rgb(29\, 33\, 41)\; font-family: &quot\;SF Optimized&quot\;\, system-ui\, -apple-system\, system-ui\, &quot\;.SFNSText-Regular&quot\;\, sans-serif\; font-size: 14px\; letter-spacing: -0.12px\;">locations o</span>n November 26:<br />\nHalifax County Cancer Association office between 2pm and 4:30pm</p>\n</div>\n
LOCATION:
UID:e.845.5905
SEQUENCE:3
DTSTAMP:20260422T120715Z
URL:https://business.halifaxchamber.net/events/details/hcca-luminary-service-5905
END:VEVENT

END:VCALENDAR
