BEGIN:VCALENDAR
VERSION:2.0
PRODID:-//ChamberMaster//Event Calendar 2.0//EN
METHOD:PUBLISH
X-PUBLISHED-TTL:P3D
REFRESH-INTERVAL:P3D
CALSCALE:GREGORIAN
BEGIN:VEVENT
DTSTART:20190625T123000Z
DTEND:20190625T140000Z
X-MICROSOFT-CDO-ALLDAYEVENT:FALSE
SUMMARY:HCHS Varsity Girls Tennis Camp
DESCRIPTION:Learn from the 2019 Piedmont District Champions! HCHS Varsity Girls Tennis players and coaches Donna Hudson and Ronnie Roller.\n\nParticipation will be limited to players who are rising 6th graders or older.\n\nProceeds go to the 2019-2020 Girls Tennis Team.\n\nTo sign up contact Coach Hudson 434-579-1091
X-ALT-DESC;FMTTYPE=text/html:Learn from the 2019 Piedmont District Champions! HCHS Varsity Girls Tennis players and coaches Donna Hudson and Ronnie Roller.<br />\nParticipation will be limited to players who are rising 6th graders or older.<br />\nProceeds go to the 2019-2020 Girls Tennis Team.<br />\nTo sign up contact Coach Hudson 434-579-1091
LOCATION:
UID:e.845.13167
SEQUENCE:3
DTSTAMP:20260421T044554Z
URL:https://business.halifaxchamber.net/events/details/hchs-varsity-girls-tennis-camp-06-25-2019-13167
END:VEVENT

END:VCALENDAR
