BEGIN:VCALENDAR
VERSION:2.0
PRODID:-//ChamberMaster//Event Calendar 2.0//EN
METHOD:PUBLISH
X-PUBLISHED-TTL:P3D
REFRESH-INTERVAL:P3D
CALSCALE:GREGORIAN
BEGIN:VEVENT
DTSTART:20200314T130000Z
DTEND:20200314T160000Z
X-MICROSOFT-CDO-ALLDAYEVENT:FALSE
SUMMARY:HCPS Job Fair
DESCRIPTION:Come get information on becoming a teacher as we are seeking certified and classified employees for the 2020-2021 school year.  Some positions are available immediately!        \n\n\n\nPre-register at www.halifax.k12.va.us
X-ALT-DESC;FMTTYPE=text/html:Come get information on becoming a teacher as we are seeking certified and classified employees for the 2020-2021 school year.&nbsp\; Some positions are available immediately!&nbsp\;&nbsp\;&nbsp\;&nbsp\;&nbsp\;&nbsp\;&nbsp\;&nbsp\;<br />\n<br />\nPre-register at <a href="http://www.halifax.k12.va.us">www.halifax.k12.va.us</a>
LOCATION:Halifax County Middle School - Lobby 1011 Middle School Circle South Boston\, VA 24592
UID:e.845.17462
SEQUENCE:3
DTSTAMP:20260420T131909Z
URL:https://business.halifaxchamber.net/events/details/hcps-job-fair-17462
END:VEVENT

END:VCALENDAR
