BEGIN:VCALENDAR
VERSION:2.0
PRODID:-//ChamberMaster//Event Calendar 2.0//EN
METHOD:PUBLISH
X-PUBLISHED-TTL:P3D
REFRESH-INTERVAL:P3D
CALSCALE:GREGORIAN
BEGIN:VEVENT
DTSTART;VALUE=DATE:20190919
DTEND;VALUE=DATE:20190923
TRANSP:TRANSPARENT
X-MICROSOFT-CDO-ALLDAYEVENT:TRUE
SUMMARY:Heacock Classic Gold Cup
DESCRIPTION:Join VIRginia International Raceway for the Heacock Classic Gold Cup Historic Races. Some of the best vintage and historic Sports Racing\, Formula and Production GT race cars will grace the historic 3.27 mile road course over the weekend.\n\nVIR\, in partnership with SVRA\, is making a special offer to residents of Halifax County\, Pittsylvania County\, and the City of Danville. VIR is offering one free four-day ticket to anyone with a local address.\n\n\n\nPick up locations are the Halifax County Chamber of Commerce\, Halifax County Visitor Center\, Danville/Pittsylvania Chamber of Commerce\, and the City of Danville Welcome Center.\n\n\n\nChildren 16 and under are admitted free with a paying adult\, or in this case\, an adult with a free local ticket. Active Military are free and Veterans are 1/2 price with a valid ID. Parking is free.
X-ALT-DESC;FMTTYPE=text/html:Join VIRginia International Raceway for the Heacock Classic Gold Cup Historic Races. Some of the best vintage and historic Sports Racing\, Formula and Production GT race cars will grace the historic 3.27 mile road course over the weekend.<br />\nVIR\, in partnership with SVRA\, is making a <u>special offer</u> to residents of Halifax County\, Pittsylvania County\, and the City of Danville. VIR is offering one&nbsp\;<strong>free</strong>&nbsp\;four-day ticket to anyone with a local address.<br />\n<br />\nPick up locations are the Halifax County Chamber of Commerce\, Halifax County Visitor Center\, Danville/Pittsylvania Chamber of Commerce\, and the City of Danville Welcome Center.<br />\n<br />\nChildren 16 and under are admitted free with a paying adult\, or in this case\, an adult with a free local ticket. Active Military are free and Veterans are 1/2 price with a valid ID. Parking is free.
LOCATION:VIRginia International Raceway 1245 Pine Tree Road Alton\, VA 24520
UID:e.845.13280
SEQUENCE:3
DTSTAMP:20260420T233720Z
URL:https://business.halifaxchamber.net/events/details/heacock-classic-gold-cup-13280
END:VEVENT

END:VCALENDAR
