BEGIN:VCALENDAR
VERSION:2.0
PRODID:-//ChamberMaster//Event Calendar 2.0//EN
METHOD:PUBLISH
X-PUBLISHED-TTL:P3D
REFRESH-INTERVAL:P3D
CALSCALE:GREGORIAN
BEGIN:VEVENT
DTSTART;VALUE=DATE:20160924
DTEND;VALUE=DATE:20160926
TRANSP:TRANSPARENT
X-MICROSOFT-CDO-ALLDAYEVENT:TRUE
SUMMARY:Heacock Classic Gold Cup Historic Races (presented by SVRA)
DESCRIPTION:The SportsCar Vintage Racing Association returns to VIR to close its east coast season\, bringing with it cars and a passion for racing that have stood the test of time. Memories will return with every turn of the tire as VIR continues the tradition of its annual Gold Cup Historic Races & Car Show. Past event favorites include a group of 25 Austin Healeys and a Maserati 450S just like the one Caroll Shelby drove when he won the first race at VIR.
X-ALT-DESC;FMTTYPE=text/html:The SportsCar Vintage Racing Association returns to VIR to close its east coast season\, bringing with it cars and a passion for racing that have stood the test of time. Memories will return with every turn of the tire as VIR continues the tradition of its annual Gold Cup Historic Races &amp\; Car Show. Past event favorites include a group of 25 Austin Healeys and a Maserati 450S just like the one Caroll Shelby drove when he won the first race at VIR.
LOCATION:Virginia International Raceway 1245 Pine Tree Road Alton\, VA 24520
UID:e.845.4609
SEQUENCE:3
DTSTAMP:20260424T225856Z
URL:https://business.halifaxchamber.net/events/details/heacock-classic-gold-cup-historic-races-presented-by-svra-09-24-2016-4609
END:VEVENT

END:VCALENDAR
