BEGIN:VCALENDAR
VERSION:2.0
PRODID:-//ChamberMaster//Event Calendar 2.0//EN
METHOD:PUBLISH
X-PUBLISHED-TTL:P3D
REFRESH-INTERVAL:P3D
CALSCALE:GREGORIAN
BEGIN:VEVENT
DTSTART;VALUE=DATE:20180921
DTEND;VALUE=DATE:20180924
TRANSP:TRANSPARENT
X-MICROSOFT-CDO-ALLDAYEVENT:TRUE
SUMMARY:Heacock Classic Gold Cup Historic Races\, Trans Am Racing and Pro-Am Race for Legends of NASCAR
DESCRIPTION:The SportsCar Vintage Racing Association returns to VIR to close its east coast season\, bringing with it cars and a passion for racing that have stood the test of time. Memories will return with every turn of the tire as VIR continues the tradition of its annual Gold Cup Historic Races & Car Show. Past event favorites include a group of 25 Austin Healeys and a Maserati 450S just like the one Carroll Shelby drove when he won the first race at VIR.\n\nAll current military will be admitted free and veterans will receive a 50% discount to ALL VIR events. Just present a valid Government issued military ID to registration when you arrive. This offer not valid during private track rentals.\n\nChildren 16 and under are always free with a paying adult and there is no cost for parking.\n\nWhile at the track\, catch all the racing action on 89.9 FM.
X-ALT-DESC;FMTTYPE=text/html:<p style="box-sizing: border-box\; margin: 1em 0px\; hyphens: none\; line-height: 1.5em\; color: rgb(0\, 0\, 0)\; font-family: HelveticaNeue-Light\, &quot\;Helvetica Neue Light&quot\;\, &quot\;Helvetica Neue&quot\;\, Helvetica\, Arial\, &quot\;Lucida Grande&quot\;\, sans-serif\; font-size: 16px\;">The SportsCar Vintage Racing Association returns to VIR to close its east coast season\, bringing with it cars and a passion for racing that have stood the test of time. Memories will return with every turn of the tire as VIR continues the tradition of its annual Gold Cup Historic Races &amp\; Car Show. Past event favorites include a group of 25 Austin Healeys and a Maserati 450S just like the one Carroll Shelby drove when he won the first race at VIR.</p>\n\n<p style="box-sizing: border-box\; margin: 1em 0px\; hyphens: none\; line-height: 1.5em\; color: rgb(0\, 0\, 0)\; font-family: HelveticaNeue-Light\, &quot\;Helvetica Neue Light&quot\;\, &quot\;Helvetica Neue&quot\;\, Helvetica\, Arial\, &quot\;Lucida Grande&quot\;\, sans-serif\; font-size: 16px\;"><strong style="box-sizing: border-box\;">All current military will be admitted free and veterans will receive a 50% discount to ALL VIR events. Just present a valid Government issued military ID to registration when you arrive. This offer not valid during private track rentals.</strong></p>\n\n<p style="box-sizing: border-box\; margin: 1em 0px\; hyphens: none\; line-height: 1.5em\; color: rgb(0\, 0\, 0)\; font-family: HelveticaNeue-Light\, &quot\;Helvetica Neue Light&quot\;\, &quot\;Helvetica Neue&quot\;\, Helvetica\, Arial\, &quot\;Lucida Grande&quot\;\, sans-serif\; font-size: 16px\;"><strong style="box-sizing: border-box\;">Children 16 and under are always free with a paying adult and there is no cost for parking.</strong></p>\n\n<p style="box-sizing: border-box\; margin: 1em 0px\; hyphens: none\; line-height: 1.5em\; color: rgb(0\, 0\, 0)\; font-family: HelveticaNeue-Light\, &quot\;Helvetica Neue Light&quot\;\, &quot\;Helvetica Neue&quot\;\, Helvetica\, Arial\, &quot\;Lucida Grande&quot\;\, sans-serif\; font-size: 16px\;"><strong style="box-sizing: border-box\;">While at the track\, catch all the racing action on 89.9 FM.</strong></p>\n
LOCATION:VIRginia International Raceway 1245 Pine Tree Road Alton\, VA
UID:e.845.7210
SEQUENCE:3
DTSTAMP:20260421T204721Z
URL:https://business.halifaxchamber.net/events/details/heacock-classic-gold-cup-historic-races-trans-am-racing-and-pro-am-race-for-legends-of-nascar-7210
END:VEVENT

END:VCALENDAR
