BEGIN:VCALENDAR
VERSION:2.0
PRODID:-//ChamberMaster//Event Calendar 2.0//EN
METHOD:PUBLISH
X-PUBLISHED-TTL:P3D
REFRESH-INTERVAL:P3D
CALSCALE:GREGORIAN
BEGIN:VEVENT
DTSTART;VALUE=DATE:20170923
DTEND;VALUE=DATE:20170925
TRANSP:TRANSPARENT
X-MICROSOFT-CDO-ALLDAYEVENT:TRUE
SUMMARY:Heacock Classic Gold Cup Historic Races & Trans Am Racing Series
DESCRIPTION:The SportsCar Vintage Racing Association returns to VIR to close its east coast season\, bringing with it cars and a passion for racing that have stood the test of time. Memories will return with every turn of the tire as VIR continues the tradition of its annual Gold Cup Historic Races & Car Show. Past event favorites include a group of 25 Austin Healeys and a Maserati 450S just like the one Caroll Shelby drove when he won the first race at VIR.
X-ALT-DESC;FMTTYPE=text/html:<p><span style="color:rgb(0\, 0\, 0)\; font-family:helveticaneue-light\,helvetica neue light\,helvetica neue\,helvetica\,arial\,lucida grande\,sans-serif\; font-size:16px">The SportsCar Vintage Racing Association returns to VIR to close its east coast season\, bringing with it cars and a passion for racing that have stood the test of time. Memories will return with every turn of the tire as VIR continues the tradition of its annual Gold Cup Historic Races &amp\; Car Show. Past event favorites include a group of 25 Austin Healeys and a Maserati 450S just like the one Caroll Shelby drove when he won the first race at VIR.</span></p>\n
LOCATION:VIRginia International Raceway 1245 Pine Tree Road Alton\, VA 24520
UID:e.845.5768
SEQUENCE:3
DTSTAMP:20260422T160249Z
URL:https://business.halifaxchamber.net/events/details/heacock-classic-gold-cup-historic-races-trans-am-racing-series-09-23-2017-5768
END:VEVENT

END:VCALENDAR
