BEGIN:VCALENDAR
VERSION:2.0
PRODID:-//ChamberMaster//Event Calendar 2.0//EN
METHOD:PUBLISH
X-PUBLISHED-TTL:P3D
REFRESH-INTERVAL:P3D
CALSCALE:GREGORIAN
BEGIN:VEVENT
DTSTART;VALUE=DATE:20210623
DTEND;VALUE=DATE:20210624
TRANSP:TRANSPARENT
X-MICROSOFT-CDO-ALLDAYEVENT:TRUE
SUMMARY:Health Careers Virtual Summer Camp
DESCRIPTION:Join the Southern Virginia Higher Education Center and Southside VA Area Health Education Center for their virtual camp open to 9th through 12th grade high school students.\n\nIt is an enriching summer health careers camp that will allow students to make a well-informed decision about going into a health career of their choice.\n\nRegistration open now thru June 4\, 2021.
X-ALT-DESC;FMTTYPE=text/html:Join the Southern Virginia Higher Education Center and Southside VA Area Health Education Center for their virtual camp open to 9th through 12th grade high school students.<br />\nIt is an enriching summer health careers camp that will allow students to make a well-informed decision about going into a health career of their choice.<br />\nRegistration open now thru June 4\, 2021.
LOCATION:Register online at http://www.bit.ly/aheccamp
UID:e.845.17980
SEQUENCE:3
DTSTAMP:20260419T124146Z
URL:https://business.halifaxchamber.net/events/details/health-careers-virtual-summer-camp-06-23-2021-17980
END:VEVENT

END:VCALENDAR
