BEGIN:VCALENDAR
VERSION:2.0
PRODID:-//ChamberMaster//Event Calendar 2.0//EN
METHOD:PUBLISH
X-PUBLISHED-TTL:P3D
REFRESH-INTERVAL:P3D
CALSCALE:GREGORIAN
BEGIN:VEVENT
DTSTART:20190417T130000Z
DTEND:20190417T170000Z
X-MICROSOFT-CDO-ALLDAYEVENT:FALSE
SUMMARY:Health & Wellness Fair
DESCRIPTION:Organizations\, groups or individuals eho eoulf likr yo help build awareness of health rises and provide information on how an individual can make behavioral changes to enhance his or her health are invited to this fair. \n\nCall\, preregister\, and reserve your table today. Space is limited.\n\nThe event is free and open to the public.\n\nFor more information call 570-4232.
X-ALT-DESC;FMTTYPE=text/html:Organizations\, groups or individuals eho eoulf likr yo help build awareness of health rises and provide information on how an individual can make behavioral changes to enhance his or her health are invited to this fair.&nbsp\;<br />\nCall\, preregister\, and reserve your table today. Space is limited.<br />\nThe event is free and open to the public.<br />\nFor more information call 570-4232.
LOCATION:Washington Coleman Community Center 1927 Jeffress Blvd. South Boston\, VA 24592
UID:e.845.12437
SEQUENCE:3
DTSTAMP:20260421T093836Z
URL:https://business.halifaxchamber.net/events/details/health-wellness-fair-12437
END:VEVENT

END:VCALENDAR
