BEGIN:VCALENDAR
VERSION:2.0
PRODID:-//ChamberMaster//Event Calendar 2.0//EN
METHOD:PUBLISH
X-PUBLISHED-TTL:P3D
REFRESH-INTERVAL:P3D
CALSCALE:GREGORIAN
BEGIN:VEVENT
DTSTART:20190112T140000Z
DTEND:20190112T170000Z
X-MICROSOFT-CDO-ALLDAYEVENT:FALSE
SUMMARY:Healthy Day for All YMCA
DESCRIPTION:Join us for a morning of health and wellness!\n\nMini Group Exercise classes. \n\n9:00-9:25AM Step with Phyllis\n\n9:30-9:55 Balance and Flex- Angela\n\n10-10:25 Cycle- Angela\n\n10:30-10:55 HIIT -Angela\n\n11-11:30 Cycle-Angela\n\n**Attend 3 classes and get a \n\nFREE WATER BOTTLE\n \nHealth Screenings by Sentara Hospital
X-ALT-DESC;FMTTYPE=text/html:Join us for a morning of health and wellness!<br />\nMini Group Exercise classes.&nbsp\;<br />\n<span aria-live="polite" class="fbPhotosPhotoCaption" data-ft="{&quot\;tn&quot\;:&quot\;K&quot\;}" id="fbPhotoSnowliftCaption" style="outline: none\; display: inline\; width: auto\; font-size: 14px\; line-height: 18px\; font-family: system-ui\, -apple-system\, BlinkMacSystemFont\, &quot\;.SFNSText-Regular&quot\;\, sans-serif\; caret-color: rgb(28\, 30\, 33)\; color: rgb(28\, 30\, 33)\;" tabindex="0">9:00-9:25AM Step with Phyllis<br />\n9:30-9:55 Balance and Flex- Angela<br />\n<span class="text_exposed_show" style="display: inline\; font-family: inherit\;">10-10:25 Cycle- Angela<br />\n10:30-10:55 HIIT -Angela<br />\n11-11:30 Cycle-Angela<br />\n**Attend 3 classes and get a&nbsp\;<br />\nFREE WATER BOTTLE</span></span>\n<div>&nbsp\;</div>\nHealth Screenings by Sentara Hospital
LOCATION:South Boston/ Halifax County YMCA South Boston\, VA 24592
UID:e.845.11697
SEQUENCE:3
DTSTAMP:20260421T135236Z
URL:https://business.halifaxchamber.net/events/details/healthy-day-for-all-ymca-11697
END:VEVENT

END:VCALENDAR
