BEGIN:VCALENDAR
VERSION:2.0
PRODID:-//ChamberMaster//Event Calendar 2.0//EN
METHOD:PUBLISH
X-PUBLISHED-TTL:P3D
REFRESH-INTERVAL:P3D
CALSCALE:GREGORIAN
BEGIN:VEVENT
DTSTART:20200225T230000Z
DTEND:20200226T010000Z
X-MICROSOFT-CDO-ALLDAYEVENT:FALSE
SUMMARY:Heart to Heart at Sentara Halifax Regional
DESCRIPTION:Join us for a wine tasting\, refreshments while our cardiologists present information about the risks\, symptoms\, treatment\, and prevention of heart disease.\n\n\n\nEducational information is presented by Gareth Titus\, M.D.\, Habib Bassil\, M.D.\, Janardhan Srinivasan\, M.D.\, and Said Iksander\, M.D.
X-ALT-DESC;FMTTYPE=text/html:Join us for a wine tasting\, refreshments while our cardiologists present information about the risks\, symptoms\, treatment\, and prevention of heart disease.<br />\n<br />\nEducational information is presented by Gareth Titus\, M.D.\, Habib Bassil\, M.D.\, Janardhan Srinivasan\, M.D.\, and Said Iksander\, M.D.
LOCATION:Sentara Halifax Regional Hospital - Leggett Auditorium 2204 Wilborne Avenue South Boston\, VA 24592
UID:e.845.17460
SEQUENCE:3
DTSTAMP:20260420T165715Z
URL:https://business.halifaxchamber.net/events/details/heart-to-heart-at-sentara-halifax-regional-17460
END:VEVENT

END:VCALENDAR
