BEGIN:VCALENDAR
VERSION:2.0
PRODID:-//ChamberMaster//Event Calendar 2.0//EN
METHOD:PUBLISH
X-PUBLISHED-TTL:P3D
REFRESH-INTERVAL:P3D
CALSCALE:GREGORIAN
BEGIN:VEVENT
DTSTART:20210214T003000Z
DTEND:20210214T020000Z
X-MICROSOFT-CDO-ALLDAYEVENT:FALSE
SUMMARY:Heartbeats - A Virtual Benefit Concert
DESCRIPTION:Tri-County Community Action Agency's Housing Services presents Heartbeats\, a virtual concert benefitting those experiencing homelessness in Southside Virginia.
X-ALT-DESC;FMTTYPE=text/html:Tri-County Community Action Agency&#39\;s Housing Services presents Heartbeats\, a virtual concert benefitting those experiencing homelessness in Southside Virginia.
LOCATION:Get tickets at: https://heartbeats-a-virtual-benefit-concert.eventbrite.com
UID:e.845.17838
SEQUENCE:3
DTSTAMP:20260419T201244Z
URL:https://business.halifaxchamber.net/events/details/heartbeats-a-virtual-benefit-concert-17838
END:VEVENT

END:VCALENDAR
