BEGIN:VCALENDAR
VERSION:2.0
PRODID:-//ChamberMaster//Event Calendar 2.0//EN
METHOD:PUBLISH
X-PUBLISHED-TTL:P3D
REFRESH-INTERVAL:P3D
CALSCALE:GREGORIAN
BEGIN:VEVENT
DTSTART:20200514T160000Z
DTEND:20200514T170000Z
X-MICROSOFT-CDO-ALLDAYEVENT:FALSE
SUMMARY:Helping Virginia Reopen in a COVID-19 World - Session 2
DESCRIPTION:A series of workshops to help businesses get ready and prepared to re-open after COVID-19 including updated regulations\, supply chain updates\, marketing\, accounting/insurance\, employment and more.\n\n\n\nSession 2 - New Rules for Managing\, PPP Fund Management and Challenges of doing business Post COVID-19. Professionals in insurance\, accounting and OSHA will lead this session sharing best practices\, record keeping and reporting for PPP loans and health & safety precautions and preparations.
X-ALT-DESC;FMTTYPE=text/html:<span style="color: rgb(35\, 35\, 51)\; font-family: Lato\, Helvetica\, Arial\; font-size: 14px\;">A series of workshops to help businesses get ready and prepared to re-open after COVID-19 including updated regulations\, supply chain updates\, marketing\, accounting/insurance\, employment and more.</span><br style="box-sizing: border-box\; color: rgb(35\, 35\, 51)\; font-family: Lato\, Helvetica\, Arial\; font-size: 14px\;" />\n<br style="box-sizing: border-box\; color: rgb(35\, 35\, 51)\; font-family: Lato\, Helvetica\, Arial\; font-size: 14px\;" />\n<span style="color: rgb(35\, 35\, 51)\; font-family: Lato\, Helvetica\, Arial\; font-size: 14px\;">Session 2 - New Rules for Managing\, PPP Fund Management and Challenges of doing business Post COVID-19. Professionals in insurance\, accounting and OSHA will lead this session sharing best practices\, record keeping and reporting for PPP loans and health &amp\; safety precautions and preparations.</span>
LOCATION:Register at: https://zoom.us/webinar/register/WN_53V-uginRt68AUPy739I3w
UID:e.845.17595
SEQUENCE:3
DTSTAMP:20260420T100800Z
URL:https://business.halifaxchamber.net/events/details/helping-virginia-reopen-in-a-covid-19-world-session-2-17595
END:VEVENT

END:VCALENDAR
