BEGIN:VCALENDAR
VERSION:2.0
PRODID:-//ChamberMaster//Event Calendar 2.0//EN
METHOD:PUBLISH
X-PUBLISHED-TTL:P3D
REFRESH-INTERVAL:P3D
CALSCALE:GREGORIAN
BEGIN:VEVENT
DTSTART:20200521T160000Z
DTEND:20200521T170000Z
X-MICROSOFT-CDO-ALLDAYEVENT:FALSE
SUMMARY:Helping Virginia Reopen in a COVID-19 World - Session 3
DESCRIPTION:A series of workshops to help businesses get ready and prepared to re-open after COVID-19 including updated regulations\, supply chain updates\, marketing\, accounting/insurance\, employment and more.\n\n\n\nSession 3 - Marketing Your Business Post COVID-19. This session will provide ideas and resources to promoting the re-opening of a business.
X-ALT-DESC;FMTTYPE=text/html:<span style="color: rgb(35\, 35\, 51)\; font-family: Lato\, Helvetica\, Arial\; font-size: 14px\;">A series of workshops to help businesses get ready and prepared to re-open after COVID-19 including updated regulations\, supply chain updates\, marketing\, accounting/insurance\, employment and more.</span><br style="box-sizing: border-box\; color: rgb(35\, 35\, 51)\; font-family: Lato\, Helvetica\, Arial\; font-size: 14px\;" />\n<br style="box-sizing: border-box\; color: rgb(35\, 35\, 51)\; font-family: Lato\, Helvetica\, Arial\; font-size: 14px\;" />\n<span style="color: rgb(35\, 35\, 51)\; font-family: Lato\, Helvetica\, Arial\; font-size: 14px\;">Session 3 - Marketing Your Business Post COVID-19. This session will provide ideas and resources to promoting the re-opening of a business.</span>
LOCATION:Register at: https://zoom.us/webinar/register/WN_53V-uginRt68AUPy739I3w
UID:e.845.17596
SEQUENCE:3
DTSTAMP:20260420T114624Z
URL:https://business.halifaxchamber.net/events/details/helping-virginia-reopen-in-a-covid-19-world-session-3-17596
END:VEVENT

END:VCALENDAR
