BEGIN:VCALENDAR
VERSION:2.0
PRODID:-//ChamberMaster//Event Calendar 2.0//EN
METHOD:PUBLISH
X-PUBLISHED-TTL:P3D
REFRESH-INTERVAL:P3D
CALSCALE:GREGORIAN
BEGIN:VEVENT
DTSTART:20200528T160000Z
DTEND:20200528T170000Z
X-MICROSOFT-CDO-ALLDAYEVENT:FALSE
SUMMARY:Helping Virginia Reopen in a COVID-19 World - Session 4
DESCRIPTION:A series of workshops to help businesses get ready and prepared to re-open after COVID-19 including updated regulations\, supply chain updates\, marketing\, accounting/insurance\, employment and more.\n\n\n\nSession 4 - Employment Challenges Post COVID-19. The coronavirus has impacted all businesses and employees in Virginia. Professionals in HR and employment services will share information and tips to help businesses prepare for the changes as a result of COVID-19.
X-ALT-DESC;FMTTYPE=text/html:<span style="color: rgb(35\, 35\, 51)\; font-family: Lato\, Helvetica\, Arial\; font-size: 14px\;">A series of workshops to help businesses get ready and prepared to re-open after COVID-19 including updated regulations\, supply chain updates\, marketing\, accounting/insurance\, employment and more.</span><br style="box-sizing: border-box\; color: rgb(35\, 35\, 51)\; font-family: Lato\, Helvetica\, Arial\; font-size: 14px\;" />\n<br style="box-sizing: border-box\; color: rgb(35\, 35\, 51)\; font-family: Lato\, Helvetica\, Arial\; font-size: 14px\;" />\n<span style="color: rgb(35\, 35\, 51)\; font-family: Lato\, Helvetica\, Arial\; font-size: 14px\;">Session 4 - Employment Challenges Post COVID-19. The coronavirus has impacted all businesses and employees in Virginia. Professionals in HR and employment services will share information and tips to help businesses prepare for the changes as a result of COVID-19.</span>
LOCATION:Register at: https://zoom.us/webinar/register/WN_53V-uginRt68AUPy739I3w
UID:e.845.17597
SEQUENCE:3
DTSTAMP:20260420T100853Z
URL:https://business.halifaxchamber.net/events/details/helping-virginia-reopen-in-a-covid-19-world-session-4-17597
END:VEVENT

END:VCALENDAR
