BEGIN:VCALENDAR
VERSION:2.0
PRODID:-//ChamberMaster//Event Calendar 2.0//EN
METHOD:PUBLISH
X-PUBLISHED-TTL:P3D
REFRESH-INTERVAL:P3D
CALSCALE:GREGORIAN
BEGIN:VEVENT
DTSTART:20190529T150000Z
DTEND:20190529T220000Z
X-MICROSOFT-CDO-ALLDAYEVENT:FALSE
SUMMARY:Here's Halifax! Community Development Open House
DESCRIPTION:Community Development Open House\n\nThis is your opportunity to get involved!\n\nPlease stop by anytime between 11am - 6 pm and share your community vision for the future of a vibrant Halifax.\n\nSandra Tanner - Virginia Tourism Partnership Marketing Development Specialist will be on hand to receive your ideas & observations.\n\nOpen to anyone in the Town of Halifax & Halifax County!
X-ALT-DESC;FMTTYPE=text/html:Community Development Open House<br />\nThis is your opportunity to get involved!<br />\nPlease stop by anytime between 11am - 6 pm and share your community vision for the future of a vibrant Halifax.<br />\nSandra Tanner - Virginia Tourism Partnership Marketing Development Specialist will be on hand to receive your ideas &amp\; observations.<br />\nOpen to anyone in the Town of Halifax &amp\; Halifax County!
LOCATION:Halifax Town Hall 70 South Main Street Halifax\, VA 24558
UID:e.845.12484
SEQUENCE:3
DTSTAMP:20260421T075755Z
URL:https://business.halifaxchamber.net/events/details/here-s-halifax-community-development-open-house-12484
END:VEVENT

END:VCALENDAR
