BEGIN:VCALENDAR
VERSION:2.0
PRODID:-//ChamberMaster//Event Calendar 2.0//EN
METHOD:PUBLISH
X-PUBLISHED-TTL:P3D
REFRESH-INTERVAL:P3D
CALSCALE:GREGORIAN
BEGIN:VEVENT
DTSTART:20210222T170000Z
DTEND:20210222T180000Z
X-MICROSOFT-CDO-ALLDAYEVENT:FALSE
SUMMARY:High School Students and registered Apprenticeship
DESCRIPTION:Join again on Monday\, February 22\, 2021 when Kathleen Eddington\, Assistant Director of the Division of Registered Apprenticeship will highlight Youth Registered Apprenticeship and all its options.  Please invite others to join.\n\n \n\n	Employer/Sponsors who need a talent pipeline.\n	Businesses  - Is Registered Apprenticeship your talent-recruitment solution\n	Potential apprentices exploring next steps on a new job\, or a first job\n	Workforce or Economic Development Practitioners\n	Teachers   Parents - Students\n	Veterans/Military Spouses\n\n \n\nJoin in from 12:00 p.m to 1:00 p.m. EST with this quick Registration.  Q & A will be available and different guests will be joining us throughout the year.
X-ALT-DESC;FMTTYPE=text/html:Join again on <strong>Monday\, February 22\, 2021</strong> when Kathleen Eddington\, Assistant Director of the Division of Registered Apprenticeship will highlight Youth Registered Apprenticeship and all its options.&nbsp\; <u>Please invite others to join.</u><br />\n&nbsp\;\n<ul>\n	<li style="font-size:11pt\;font-family:Calibri\;color:rgb(0\, 0\, 0)\;">Employer/Sponsors who need a talent pipeline.</li>\n	<li style="font-size:11pt\;font-family:Calibri\;color:rgb(0\, 0\, 0)\;">Businesses &nbsp\;- Is Registered Apprenticeship your talent-recruitment solution</li>\n	<li style="font-size:11pt\;font-family:Calibri\;color:rgb(0\, 0\, 0)\;">Potential apprentices exploring next steps on a new job\, or a first job</li>\n	<li style="font-size:11pt\;font-family:Calibri\;color:rgb(0\, 0\, 0)\;">Workforce or Economic Development Practitioners</li>\n	<li style="font-size:11pt\;font-family:Calibri\;color:rgb(0\, 0\, 0)\;">Teachers &ndash\; Parents - Students</li>\n	<li style="font-size:11pt\;font-family:Calibri\;color:rgb(0\, 0\, 0)\;">Veterans/Military Spouses</li>\n</ul>\n&nbsp\;<br />\nJoin in from 12:00 p.m to 1:00 p.m. EST with this quick Registration.&nbsp\; Q &amp\; A will be available and different guests will be joining us throughout the year.&nbsp\;<br />\n&nbsp\;<br />\n&nbsp\;
LOCATION:Register at: https://bit.ly/3rcIRnZ
UID:e.845.17839
SEQUENCE:3
DTSTAMP:20260419T182757Z
URL:https://business.halifaxchamber.net/events/details/high-school-students-and-registered-apprenticeship-17839
END:VEVENT

END:VCALENDAR
